{
 "currentVersion": 10.91,
 "serviceDescription": "",
 "mapName": "林務局電子地圖",
 "description": "",
 "copyrightText": "",
 "supportsDynamicLayers": true,
 "layers": [
  {
   "id": 0,
   "name": "林務局辦公處所",
   "parentLayerId": -1,
   "defaultVisibility": true,
   "subLayerIds": null,
   "minScale": 10000,
   "maxScale": 0,
   "type": "Feature Layer",
   "geometryType": "esriGeometryPoint"
  },
  {
   "id": 1,
   "name": "森林遊樂區內景觀與設施據點圖",
   "parentLayerId": -1,
   "defaultVisibility": true,
   "subLayerIds": null,
   "minScale": 10000,
   "maxScale": 0,
   "type": "Feature Layer",
   "geometryType": "esriGeometryPoint"
  },
  {
   "id": 3,
   "name": "百岳圖",
   "parentLayerId": -1,
   "defaultVisibility": true,
   "subLayerIds": null,
   "minScale": 50000,
   "maxScale": 0,
   "type": "Feature Layer",
   "geometryType": "esriGeometryPoint"
  },
  {
   "id": 4,
   "name": "運研所_重要地標1",
   "parentLayerId": -1,
   "defaultVisibility": true,
   "subLayerIds": [
    5,
    6,
    7,
    8,
    9,
    10,
    11,
    12,
    13
   ],
   "minScale": 2999,
   "maxScale": 0,
   "type": "Group Layer"
  },
  {
   "id": 14,
   "name": "運研所_重要地標2",
   "parentLayerId": -1,
   "defaultVisibility": true,
   "subLayerIds": [
    15,
    16,
    17,
    18,
    19,
    20,
    21,
    22,
    23
   ],
   "minScale": 6000,
   "maxScale": 3000,
   "type": "Group Layer"
  },
  {
   "id": 24,
   "name": "森林遊樂區步道圖",
   "parentLayerId": -1,
   "defaultVisibility": true,
   "subLayerIds": null,
   "minScale": 16000,
   "maxScale": 0,
   "type": "Feature Layer",
   "geometryType": "esriGeometryPolyline"
  },
  {
   "id": 25,
   "name": "森林遊樂區鄰近林道圖",
   "parentLayerId": -1,
   "defaultVisibility": true,
   "subLayerIds": null,
   "minScale": 35000,
   "maxScale": 0,
   "type": "Feature Layer",
   "geometryType": "esriGeometryPolyline"
  },
  {
   "id": 26,
   "name": "第二輪檢訂林區道路圖",
   "parentLayerId": -1,
   "defaultVisibility": true,
   "subLayerIds": null,
   "minScale": 32000,
   "maxScale": 0,
   "type": "Feature Layer",
   "geometryType": "esriGeometryPolyline"
  },
  {
   "id": 34,
   "name": "運研所_道路1",
   "parentLayerId": -1,
   "defaultVisibility": true,
   "subLayerIds": [
    35,
    36,
    37,
    38,
    39,
    40,
    41,
    42,
    43,
    44,
    45,
    46,
    47,
    48,
    49,
    50,
    51
   ],
   "minScale": 0,
   "maxScale": 0,
   "type": "Group Layer"
  },
  {
   "id": 52,
   "name": "運研所_道路2",
   "parentLayerId": -1,
   "defaultVisibility": true,
   "subLayerIds": [
    53
   ],
   "minScale": 0,
   "maxScale": 0,
   "type": "Group Layer"
  },
  {
   "id": 54,
   "name": "運研所_道路3",
   "parentLayerId": -1,
   "defaultVisibility": true,
   "subLayerIds": [
    55
   ],
   "minScale": 0,
   "maxScale": 0,
   "type": "Group Layer"
  },
  {
   "id": 56,
   "name": "野生動物保護區",
   "parentLayerId": -1,
   "defaultVisibility": true,
   "subLayerIds": null,
   "minScale": 64000,
   "maxScale": 0,
   "type": "Feature Layer",
   "geometryType": "esriGeometryPolygon"
  },
  {
   "id": 57,
   "name": "野生動物重要棲息環境",
   "parentLayerId": -1,
   "defaultVisibility": true,
   "subLayerIds": null,
   "minScale": 64000,
   "maxScale": 0,
   "type": "Feature Layer",
   "geometryType": "esriGeometryPolygon"
  },
  {
   "id": 58,
   "name": "自然保護區",
   "parentLayerId": -1,
   "defaultVisibility": true,
   "subLayerIds": null,
   "minScale": 125000,
   "maxScale": 0,
   "type": "Feature Layer",
   "geometryType": "esriGeometryPolygon"
  },
  {
   "id": 59,
   "name": "自然保留區",
   "parentLayerId": -1,
   "defaultVisibility": true,
   "subLayerIds": null,
   "minScale": 125000,
   "maxScale": 0,
   "type": "Feature Layer",
   "geometryType": "esriGeometryPolygon"
  },
  {
   "id": 60,
   "name": "森林遊樂區範圍界1",
   "parentLayerId": -1,
   "defaultVisibility": true,
   "subLayerIds": null,
   "minScale": 125000,
   "maxScale": 0,
   "type": "Feature Layer",
   "geometryType": "esriGeometryPolygon"
  },
  {
   "id": 61,
   "name": "森林遊樂區範圍界2",
   "parentLayerId": -1,
   "defaultVisibility": true,
   "subLayerIds": null,
   "minScale": 250000,
   "maxScale": 125001,
   "type": "Feature Layer",
   "geometryType": "esriGeometryPolygon"
  }
 ],
 "tables": [],
 "spatialReference": {
  "wkid": 102443,
  "latestWkid": 3826
 },
 "singleFusedMapCache": true,
 "tileInfo": {
  "rows": 512,
  "cols": 512,
  "dpi": 96,
  "format": "PNG32",
  "compressionQuality": 0,
  "origin": {
   "x": -5372600,
   "y": 10001100
  },
  "spatialReference": {
   "wkid": 102443,
   "latestWkid": 3826
  },
  "lods": [
   {
    "level": 0,
    "resolution": 1058.3354500042335,
    "scale": 4000000
   },
   {
    "level": 1,
    "resolution": 529.1677250021168,
    "scale": 2000000
   },
   {
    "level": 2,
    "resolution": 264.5838625010584,
    "scale": 1000000
   },
   {
    "level": 3,
    "resolution": 132.2919312505292,
    "scale": 500000
   },
   {
    "level": 4,
    "resolution": 66.1459656252646,
    "scale": 250000
   },
   {
    "level": 5,
    "resolution": 33.0729828126323,
    "scale": 125000
   },
   {
    "level": 6,
    "resolution": 16.933367200067735,
    "scale": 64000
   },
   {
    "level": 7,
    "resolution": 13.229193125052918,
    "scale": 50000
   },
   {
    "level": 8,
    "resolution": 8.466683600033868,
    "scale": 32000
   },
   {
    "level": 9,
    "resolution": 4.233341800016934,
    "scale": 16000
   },
   {
    "level": 10,
    "resolution": 2.6458386250105836,
    "scale": 10000
   },
   {
    "level": 11,
    "resolution": 1.3229193125052918,
    "scale": 5000
   },
   {
    "level": 12,
    "resolution": 0.6614596562526459,
    "scale": 2500
   },
   {
    "level": 13,
    "resolution": 0.33072982812632296,
    "scale": 1250
   },
   {
    "level": 14,
    "resolution": 0.1653645,
    "scale": 625
   }
  ]
 },
 "initialExtent": {
  "xmin": 215902.09881145638,
  "ymin": 2672118.6916295676,
  "xmax": 218588.94793515463,
  "ymax": 2673503.7881497606,
  "spatialReference": {
   "wkid": 102443,
   "latestWkid": 3826
  }
 },
 "fullExtent": {
  "xmin": 77907.0558000002,
  "ymin": 2422340.91,
  "xmax": 361397.71190000046,
  "ymax": 2820332.4486999996,
  "spatialReference": {
   "wkid": 102443,
   "latestWkid": 3826
  }
 },
 "minScale": 4000000,
 "maxScale": 2500,
 "units": "esriMeters",
 "supportedImageFormatTypes": "PNG32,PNG24,PNG,JPG,DIB,TIFF,EMF,PS,PDF,GIF,SVG,SVGZ,BMP",
 "documentInfo": {
  "Title": "林務局路網圖",
  "Author": "MIS3065",
  "Comments": "",
  "Subject": "",
  "Category": "",
  "AntialiasingMode": "None",
  "TextAntialiasingMode": "Force",
  "Keywords": "FGIS,FH,林務局路網圖"
 },
 "capabilities": "Map,Query,Data",
 "supportedQueryFormats": "JSON, geoJSON",
 "exportTilesAllowed": false,
 "referenceScale": 0,
 "datumTransformations": [
  {
   "geoTransforms": [
    {
     "wkid": 108001,
     "latestWkid": 1241,
     "transformForward": true,
     "name": "NAD_1927_To_NAD_1983_NADCON"
    }
   ]
  },
  {
   "geoTransforms": [
    {
     "wkid": 108001,
     "latestWkid": 1241,
     "transformForward": false,
     "name": "NAD_1927_To_NAD_1983_NADCON"
    }
   ]
  }
 ],
 "supportsDatumTransformation": true,
 "maxRecordCount": 1000,
 "maxImageHeight": 4096,
 "maxImageWidth": 4096,
 "supportedExtensions": ""
}
