{
 "currentVersion": 10.91,
 "serviceDescription": "",
 "mapName": "等高線",
 "description": "",
 "copyrightText": "",
 "supportsDynamicLayers": true,
 "layers": [
  {
   "id": 0,
   "name": "等高線1",
   "parentLayerId": -1,
   "defaultVisibility": true,
   "subLayerIds": null,
   "minScale": 5000000,
   "maxScale": 50001,
   "type": "Feature Layer",
   "geometryType": "esriGeometryPolyline"
  },
  {
   "id": 1,
   "name": "等高線2",
   "parentLayerId": -1,
   "defaultVisibility": true,
   "subLayerIds": null,
   "minScale": 50000,
   "maxScale": 0,
   "type": "Feature Layer",
   "geometryType": "esriGeometryPolyline"
  }
 ],
 "tables": [],
 "spatialReference": {
  "wkid": 102443,
  "latestWkid": 3826
 },
 "singleFusedMapCache": true,
 "tileInfo": {
  "rows": 512,
  "cols": 512,
  "dpi": 96,
  "format": "PNG32",
  "compressionQuality": 0,
  "origin": {
   "x": -5372600,
   "y": 10001100
  },
  "spatialReference": {
   "wkid": 102443,
   "latestWkid": 3826
  },
  "lods": [
   {
    "level": 0,
    "resolution": 1058.3354500042335,
    "scale": 4000000
   },
   {
    "level": 1,
    "resolution": 529.1677250021168,
    "scale": 2000000
   },
   {
    "level": 2,
    "resolution": 264.5838625010584,
    "scale": 1000000
   },
   {
    "level": 3,
    "resolution": 132.2919312505292,
    "scale": 500000
   },
   {
    "level": 4,
    "resolution": 66.1459656252646,
    "scale": 250000
   },
   {
    "level": 5,
    "resolution": 33.0729828126323,
    "scale": 125000
   },
   {
    "level": 6,
    "resolution": 16.933367200067735,
    "scale": 64000
   },
   {
    "level": 7,
    "resolution": 13.229193125052918,
    "scale": 50000
   },
   {
    "level": 8,
    "resolution": 8.466683600033868,
    "scale": 32000
   },
   {
    "level": 9,
    "resolution": 4.233341800016934,
    "scale": 16000
   },
   {
    "level": 10,
    "resolution": 2.6458386250105836,
    "scale": 10000
   },
   {
    "level": 11,
    "resolution": 1.3229193125052918,
    "scale": 5000
   },
   {
    "level": 12,
    "resolution": 0.6614596562526459,
    "scale": 2500
   },
   {
    "level": 13,
    "resolution": 0.33072982812632296,
    "scale": 1250
   },
   {
    "level": 14,
    "resolution": 0.1653645,
    "scale": 625
   }
  ]
 },
 "initialExtent": {
  "xmin": 264224.4400453065,
  "ymin": 2691750.077942809,
  "xmax": 312444.8489861248,
  "ymax": 2726278.271999197,
  "spatialReference": {
   "wkid": 102443,
   "latestWkid": 3826
  }
 },
 "fullExtent": {
  "xmin": 173629.12802124766,
  "ymin": 2428255.2764075994,
  "xmax": 349422.6513622403,
  "ymax": 2796129.8145751953,
  "spatialReference": {
   "wkid": 102443,
   "latestWkid": 3826
  }
 },
 "minScale": 4000000,
 "maxScale": 2500,
 "units": "esriMeters",
 "supportedImageFormatTypes": "PNG32,PNG24,PNG,JPG,DIB,TIFF,EMF,PS,PDF,GIF,SVG,SVGZ,BMP",
 "documentInfo": {
  "Title": "林務局等高線圖",
  "Author": "MIS3065",
  "Comments": "",
  "Subject": "",
  "Category": "",
  "AntialiasingMode": "None",
  "TextAntialiasingMode": "Force",
  "Keywords": "FGIS,FH,等高線圖"
 },
 "capabilities": "Map,Query,Data",
 "supportedQueryFormats": "JSON, geoJSON",
 "exportTilesAllowed": false,
 "referenceScale": 0,
 "datumTransformations": [
  {
   "geoTransforms": [
    {
     "wkid": 108001,
     "latestWkid": 1241,
     "transformForward": true,
     "name": "NAD_1927_To_NAD_1983_NADCON"
    }
   ]
  },
  {
   "geoTransforms": [
    {
     "wkid": 108001,
     "latestWkid": 1241,
     "transformForward": false,
     "name": "NAD_1927_To_NAD_1983_NADCON"
    }
   ]
  }
 ],
 "supportsDatumTransformation": true,
 "maxRecordCount": 1000,
 "maxImageHeight": 4096,
 "maxImageWidth": 4096,
 "supportedExtensions": ""
}
